BEGIN:VCALENDAR
VERSION:2.0
PRODID:-//Parafia Domaniewice - ECPv6.0.1.1//NONSGML v1.0//EN
CALSCALE:GREGORIAN
METHOD:PUBLISH
X-ORIGINAL-URL:https://domaniewice.eu
X-WR-CALDESC:Wydarzenia dla Parafia Domaniewice
REFRESH-INTERVAL;VALUE=DURATION:PT1H
X-Robots-Tag:noindex
X-PUBLISHED-TTL:PT1H
BEGIN:VTIMEZONE
TZID:Europe/Warsaw
BEGIN:DAYLIGHT
TZOFFSETFROM:+0100
TZOFFSETTO:+0200
TZNAME:CEST
DTSTART:20220327T010000
END:DAYLIGHT
BEGIN:STANDARD
TZOFFSETFROM:+0200
TZOFFSETTO:+0100
TZNAME:CET
DTSTART:20221030T010000
END:STANDARD
END:VTIMEZONE
BEGIN:VEVENT
DTSTART;TZID=Europe/Warsaw:20221026T080000
DTEND;TZID=Europe/Warsaw:20221026T090000
DTSTAMP:20260425T155351
CREATED:20221015T204609Z
LAST-MODIFIED:20221016T175555Z
UID:1567-1666771200-1666774800@domaniewice.eu
SUMMARY:Nowenna
DESCRIPTION:Customer Name: retet erter\nPhone:87987979879
URL:https://domaniewice.eu/event/nowenna/
CATEGORIES:Help Nature,Support Society
END:VEVENT
END:VCALENDAR