BEGIN:VCALENDAR
VERSION:2.0
PRODID:-//Parafia Domaniewice - ECPv6.0.1.1//NONSGML v1.0//EN
CALSCALE:GREGORIAN
METHOD:PUBLISH
X-ORIGINAL-URL:https://domaniewice.eu
X-WR-CALDESC:Wydarzenia dla Parafia Domaniewice
REFRESH-INTERVAL;VALUE=DURATION:PT1H
X-Robots-Tag:noindex
X-PUBLISHED-TTL:PT1H
BEGIN:VTIMEZONE
TZID:Europe/Warsaw
BEGIN:DAYLIGHT
TZOFFSETFROM:+0100
TZOFFSETTO:+0200
TZNAME:CEST
DTSTART:20220327T010000
END:DAYLIGHT
BEGIN:STANDARD
TZOFFSETFROM:+0200
TZOFFSETTO:+0100
TZNAME:CET
DTSTART:20221030T010000
END:STANDARD
END:VTIMEZONE
BEGIN:VEVENT
DTSTART;TZID=Europe/Warsaw:20221026T080000
DTEND;TZID=Europe/Warsaw:20221026T090000
DTSTAMP:20260422T114641
CREATED:20221015T204609Z
LAST-MODIFIED:20221016T175555Z
UID:1567-1666771200-1666774800@domaniewice.eu
SUMMARY:Nowenna
DESCRIPTION:Customer Name: retet erter\nPhone:87987979879
URL:https://domaniewice.eu/event/nowenna/
CATEGORIES:Help Nature,Support Society
END:VEVENT
BEGIN:VEVENT
DTSTART;TZID=Europe/Warsaw:20221025T093000
DTEND;TZID=Europe/Warsaw:20221025T100000
DTSTAMP:20260422T114641
CREATED:20221015T204608Z
LAST-MODIFIED:20221016T175813Z
UID:1566-1666690200-1666692000@domaniewice.eu
SUMMARY:test
DESCRIPTION:hgj jghjg jhgjg jh
URL:https://domaniewice.eu/event/test/
END:VEVENT
BEGIN:VEVENT
DTSTART;TZID=Europe/Warsaw:20221017T200000
DTEND;TZID=Europe/Warsaw:20221017T210000
DTSTAMP:20260422T114641
CREATED:20221016T221315Z
LAST-MODIFIED:20221016T221346Z
UID:1629-1666036800-1666040400@domaniewice.eu
SUMMARY:Intencje - gyt ytuytyutyutyutut yu
DESCRIPTION:Customer Name: AAAAA Orczykowsi\nPhone: \nWojtek Wawrzyniak
URL:https://domaniewice.eu/event/intencje-gyt-ytuytyutyutyutut-yu/
CATEGORIES:Help Nature
END:VEVENT
BEGIN:VEVENT
DTSTART;TZID=Europe/Warsaw:20221017T180000
DTEND;TZID=Europe/Warsaw:20221017T190000
DTSTAMP:20260422T114641
CREATED:20221016T175227Z
LAST-MODIFIED:20221016T180030Z
UID:1610-1666029600-1666033200@domaniewice.eu
SUMMARY:Nowenna
DESCRIPTION:Customer Name: Damian Orczykowsi\nPhone:
URL:https://domaniewice.eu/event/nowenna-4/
END:VEVENT
BEGIN:VEVENT
DTSTART;TZID=Europe/Warsaw:20221015T080000
DTEND;TZID=Europe/Warsaw:20221015T170000
DTSTAMP:20260422T114641
CREATED:20221014T221922Z
LAST-MODIFIED:20221014T221922Z
UID:1546-1665820800-1665853200@domaniewice.eu
SUMMARY:dfdmdfdmd
DESCRIPTION:vnndxfn
URL:https://domaniewice.eu/event/dfdmdfdmd/
END:VEVENT
BEGIN:VEVENT
DTSTART;TZID=Europe/Warsaw:20221015T080000
DTEND;TZID=Europe/Warsaw:20221015T170000
DTSTAMP:20260422T114641
CREATED:20221014T221110Z
LAST-MODIFIED:20221014T221505Z
UID:1543-1665820800-1665853200@domaniewice.eu
SUMMARY:fghfgfghfhfgh
DESCRIPTION:fhfghf fh fhhfhfhg
URL:https://domaniewice.eu/event/1543/
END:VEVENT
END:VCALENDAR